BEGIN:VCALENDAR
VERSION:2.0
PRODID:-//Main Street Family Services - ECPv6.15.20//NONSGML v1.0//EN
CALSCALE:GREGORIAN
METHOD:PUBLISH
X-ORIGINAL-URL:https://www.mainstreetfamilyservices.org
X-WR-CALDESC:Events for Main Street Family Services
REFRESH-INTERVAL;VALUE=DURATION:PT1H
X-Robots-Tag:noindex
X-PUBLISHED-TTL:PT1H
BEGIN:VTIMEZONE
TZID:UTC
BEGIN:STANDARD
TZOFFSETFROM:+0000
TZOFFSETTO:+0000
TZNAME:UTC
DTSTART:20250101T000000
END:STANDARD
END:VTIMEZONE
BEGIN:VEVENT
DTSTART;TZID=UTC:20260421T140000
DTEND;TZID=UTC:20260421T170000
DTSTAMP:20260420T010002
CREATED:20260112T220141Z
LAST-MODIFIED:20260112T220141Z
UID:4661-1776780000-1776790800@www.mainstreetfamilyservices.org
SUMMARY:Economic Assistance Support
DESCRIPTION:Economic Assistance Program Support \nDo you have questions about eligibility for the Sherburne County Economic Assistance Program\, or do you need help with paperwork? Meet with the Economic Assistance Program Navigator one-on-one at the Family Resource Center. \n1st and 3rd Tuesday of the month from 2:00pm-5:00pm at the Family Resource Center in Elk River.\n1st and 3rd Thursday of the month from 1:30pm-4:30pm at the Family Resource Center in Big Lake.\nWalk ins welcome or set up an appointment. \nContact Shari Ley at shari.ley@mainstreetfamilyservices.org or call 763-595-1420 to schedule a time to meet. \nPlease bring the following to your meeting: \nProof of Identity (driver’s license\, passport\, etc.)\nProof of Residency (driver’s license\, bill\, etc.)\nProof of Income (pay stubs\, bank statements\, etc.)\nOther documentation which provides information regarding your income and financial status\, including assets.
URL:https://www.mainstreetfamilyservices.org/event/economic-assistance-support-25/
LOCATION:Main Street Family Services\, 400 Jackson Ave NW Suite 106\, Elk River\, MN\, 55330\, United States
CATEGORIES:Elk River FRC
ATTACH;FMTTYPE=image/png:https://www.mainstreetfamilyservices.org/wp-content/uploads/2026/01/Economic-Assistance-Updated-1.12.26.png
ORGANIZER;CN="Sherburne County":MAILTO:padocs@co.sherburne.mn.us
END:VEVENT
BEGIN:VEVENT
DTSTART;TZID=UTC:20260423T183000
DTEND;TZID=UTC:20260423T193000
DTSTAMP:20260420T010002
CREATED:20260122T150255Z
LAST-MODIFIED:20260122T150255Z
UID:4738-1776969000-1776972600@www.mainstreetfamilyservices.org
SUMMARY:HHW Mental Health and Wellness Support Group
DESCRIPTION:Hope in a Hopeless World\nMental Health & Wellness Support Group \nFree\, peer-led support groups open to adults living with mental health concerns or symptoms of mental illness. All groups are led by peers with firsthand experience living with mental health concerns.\n2nd & 4th Thursday of every month from 6:30 PM to 7:30 PM \nCo-Facilitators: Job & Ryan \nLocation: Main Street Family Services 400 Jackson Ave NW\, Elk River\, MN 55330
URL:https://www.mainstreetfamilyservices.org/event/hhw-mental-health-and-wellness-support-group-7/
LOCATION:Main Street Family Services\, 400 Jackson Ave NW Suite 106\, Elk River\, MN\, 55330\, United States
CATEGORIES:Big Lake FRC,Elk River FRC
ATTACH;FMTTYPE=image/png:https://www.mainstreetfamilyservices.org/wp-content/uploads/2025/01/Hope-in-a-Hopeless-World-2nd-and-4th-Thursdays.png
ORGANIZER;CN="Hope in a Hopeless World":MAILTO:hope@hhwmn.com
END:VEVENT
END:VCALENDAR