BEGIN:VCALENDAR
VERSION:2.0
PRODID:-//Main Street Family Services - ECPv6.15.20//NONSGML v1.0//EN
CALSCALE:GREGORIAN
METHOD:PUBLISH
X-ORIGINAL-URL:https://www.mainstreetfamilyservices.org
X-WR-CALDESC:Events for Main Street Family Services
REFRESH-INTERVAL;VALUE=DURATION:PT1H
X-Robots-Tag:noindex
X-PUBLISHED-TTL:PT1H
BEGIN:VTIMEZONE
TZID:UTC
BEGIN:STANDARD
TZOFFSETFROM:+0000
TZOFFSETTO:+0000
TZNAME:UTC
DTSTART:20250101T000000
END:STANDARD
END:VTIMEZONE
BEGIN:VEVENT
DTSTART;TZID=UTC:20260319T100000
DTEND;TZID=UTC:20260319T120000
DTSTAMP:20260420T193336
CREATED:20260225T201022Z
LAST-MODIFIED:20260225T201022Z
UID:4809-1773914400-1773921600@www.mainstreetfamilyservices.org
SUMMARY:Lactation Connection
DESCRIPTION:The Lactation Connection offers a welcoming and supportive environment for new and expectant parents to share their breastfeeding experiences\, ask questions and receive expert guidance from lactation professionals and public health nurses. \nThis group provides advice on breastfeeding techniques\, latching\, milk supply\, pumping and more! There will also be a scale available to weigh your baby. Whether you’re facing challenges or simply seeking community\, this group is a safe space to connect\, learn and grow with others on a similar journey. All feeding choices are respected and supported! \nLocation: Main Street Family Resource Center- Elk River 400 Jackson Ave NW Elk River\, MN 55330
URL:https://www.mainstreetfamilyservices.org/event/lactation-connection-30/
LOCATION:Main Street Family Services\, 400 Jackson Ave NW Suite 106\, Elk River\, MN\, 55330\, United States
CATEGORIES:Big Lake FRC,Elk River FRC
ATTACH;FMTTYPE=image/png:https://www.mainstreetfamilyservices.org/wp-content/uploads/2026/02/Lactation-Connection-FB-and-Website-5.15.25.png
ORGANIZER;CN="Sherburne County":MAILTO:padocs@co.sherburne.mn.us
END:VEVENT
BEGIN:VEVENT
DTSTART;TZID=UTC:20260319T180000
DTEND;TZID=UTC:20260319T203000
DTSTAMP:20260420T193336
CREATED:20260128T211840Z
LAST-MODIFIED:20260128T211840Z
UID:4772-1773943200-1773952200@www.mainstreetfamilyservices.org
SUMMARY:Sensory Friendly Playdate at HHH Therapy Gym
DESCRIPTION:Families are invited to join us for a Sensory-Friendly Playdate at the HHH Therapy Gym! 🌈 \n📅 March 19th⏰ 6:30–8:00 PM \nThis free event provides a safe\, supportive space for children with sensory needs to explore\, play\, and move at their own pace. Parents and caregivers are encouraged to connect with one another while enjoying a welcoming\, understanding environment. We’d love to see you there! 💛 \nRegistration is requested: Sensory Friendly Play Date at HHH Therapy March 2026 – Fill out form
URL:https://www.mainstreetfamilyservices.org/event/sensory-friendly-playdate-at-hhh-therapy-gym/
LOCATION:HHH Pediatric Therapy\, 9457 Hwy 10\, Ramsey\, MN\, 55303\, United States
CATEGORIES:Big Lake FRC,Elk River FRC
ATTACH;FMTTYPE=image/png:https://www.mainstreetfamilyservices.org/wp-content/uploads/2026/01/Rescheduled-HHH-Sensory-Friendly-Playdate-Flyer.png
ORGANIZER;CN="Mainstreet Family Resource Center":MAILTO:shari.ley@mainstreetfamilyservices.org
END:VEVENT
END:VCALENDAR