BEGIN:VCALENDAR
VERSION:2.0
PRODID:-//Main Street Family Services - ECPv6.15.20//NONSGML v1.0//EN
CALSCALE:GREGORIAN
METHOD:PUBLISH
X-WR-CALNAME:Main Street Family Services
X-ORIGINAL-URL:https://www.mainstreetfamilyservices.org
X-WR-CALDESC:Events for Main Street Family Services
REFRESH-INTERVAL;VALUE=DURATION:PT1H
X-Robots-Tag:noindex
X-PUBLISHED-TTL:PT1H
BEGIN:VTIMEZONE
TZID:UTC
BEGIN:STANDARD
TZOFFSETFROM:+0000
TZOFFSETTO:+0000
TZNAME:UTC
DTSTART:20240101T000000
END:STANDARD
END:VTIMEZONE
BEGIN:VEVENT
DTSTART;TZID=UTC:20251218T100000
DTEND;TZID=UTC:20251218T110000
DTSTAMP:20260422T002925
CREATED:20250822T133641Z
LAST-MODIFIED:20250822T133641Z
UID:4366-1766052000-1766055600@www.mainstreetfamilyservices.org
SUMMARY:Lactation Connection
DESCRIPTION:The Lactation Connection offers a welcoming and supportive environment for new and expectant parents to share their breastfeeding experiences\, ask questions and receive expert guidance from lactation professionals and public health nurses. \nThis group provides advice on breastfeeding techniques\, latching\, milk supply\, pumping and more! There will also be a scale available to weigh your baby. Whether you’re facing challenges or simply seeking community\, this group is a safe space to connect\, learn and grow with others on a similar journey. All feeding choices are respected and supported! \nLocation: Main Street Family Resource Center- Elk River 400 Jackson Ave NW Elk River\, MN 55330
URL:https://www.mainstreetfamilyservices.org/event/lactation-connection-27/
LOCATION:Main Street Family Services\, 400 Jackson Ave NW Suite 106\, Elk River\, MN\, 55330\, United States
CATEGORIES:Big Lake FRC,Elk River FRC
ATTACH;FMTTYPE=image/png:https://www.mainstreetfamilyservices.org/wp-content/uploads/2025/05/Lactation-Connection-FB-and-Website-5.15.25.png
END:VEVENT
BEGIN:VEVENT
DTSTART;TZID=UTC:20251218T133000
DTEND;TZID=UTC:20251218T163000
DTSTAMP:20260422T002925
CREATED:20251112T221629Z
LAST-MODIFIED:20251112T221629Z
UID:4543-1766064600-1766075400@www.mainstreetfamilyservices.org
SUMMARY:Kinship Navigator Assistance
DESCRIPTION:Kinship Navigator Assistance\n\n\n\n\nThe Minnesota Kinship Navigator Program supports those caring for children of relatives or close family friends. The program connects caregivers with resources and services to support the children and themselves. \n\n\n\n\n\n\n\n\n\n\n\n\n\n\n\n\n\n\n\nThe kinship care program was created to support relatives and close family friends raising a child who isn’t their own. The program helps caregivers access legal\, financial\, emotional\, and community support—whether they’re caring for the child informally\, through child welfare\, or with a legal arrangement. \nThe goal is to connect families to the services and support they need to thrive. \nKinship caregivers take on a big responsibility — and they shouldn’t have to do it alone. The program is here to help families: \n\nStay financially stable\nFind trusted support in their communities\nGet connected to services like health care\, food\, housing\, and child care.\n\nWhen: 3rd Thursdays from 1:30pm-4:30pm \nWhere: Main Street Family Resource Center- Big Lake\n             Liberty Elementary  \n             17901 205th Ave NW\, Big Lake\, MN 55309
URL:https://www.mainstreetfamilyservices.org/event/kinship-navigator-assistance/
LOCATION:Liberty Elementary\, 17901 205th Ave NW\, Big Lake\, MN\, 55309\, United States
CATEGORIES:Big Lake FRC,Elk River FRC
ATTACH;FMTTYPE=image/png:https://www.mainstreetfamilyservices.org/wp-content/uploads/2025/11/Nexus-Kindred-Logo.png
END:VEVENT
END:VCALENDAR