BEGIN:VCALENDAR
VERSION:2.0
PRODID:-//Main Street Family Services - ECPv6.15.20//NONSGML v1.0//EN
CALSCALE:GREGORIAN
METHOD:PUBLISH
X-WR-CALNAME:Main Street Family Services
X-ORIGINAL-URL:https://www.mainstreetfamilyservices.org
X-WR-CALDESC:Events for Main Street Family Services
REFRESH-INTERVAL;VALUE=DURATION:PT1H
X-Robots-Tag:noindex
X-PUBLISHED-TTL:PT1H
BEGIN:VTIMEZONE
TZID:UTC
BEGIN:STANDARD
TZOFFSETFROM:+0000
TZOFFSETTO:+0000
TZNAME:UTC
DTSTART:20240101T000000
END:STANDARD
END:VTIMEZONE
BEGIN:VEVENT
DTSTART;TZID=UTC:20251105T090000
DTEND;TZID=UTC:20251105T120000
DTSTAMP:20260421T165636
CREATED:20250915T194533Z
LAST-MODIFIED:20250915T194533Z
UID:4471-1762333200-1762344000@www.mainstreetfamilyservices.org
SUMMARY:Fun with First Steps Central
DESCRIPTION:A local family home visiting nurse from First Steps Central will be hosting a fun monthly meetup. A great opportunity for you to stay and hang\, while your kids come to play! This is a perfect way to cultivate new connections within the community\, ask any question you may have and spend quality time with your little ones. Come join us 🙂 FREE TO ALL! \nLocation:\nMain Street Family Resource Center- ELK RIVER\n400 Jackson Ave NW Elk River\, MN 55330 \nDate/Time: Wednesday\, November 5th 9:00am-12:00pm
URL:https://www.mainstreetfamilyservices.org/event/fun-with-first-steps-central/
LOCATION:Main Street Family Services\, 400 Jackson Ave NW Suite 106\, Elk River\, MN\, 55330\, United States
CATEGORIES:Big Lake FRC,Elk River FRC
ATTACH;FMTTYPE=image/png:https://www.mainstreetfamilyservices.org/wp-content/uploads/2025/09/Fun-with-First-Steps-November-Facebook.png
END:VEVENT
BEGIN:VEVENT
DTSTART;TZID=UTC:20251105T130000
DTEND;TZID=UTC:20251105T160000
DTSTAMP:20260421T165636
CREATED:20250822T153614Z
LAST-MODIFIED:20250822T153614Z
UID:4408-1762347600-1762358400@www.mainstreetfamilyservices.org
SUMMARY:Diaper Club
DESCRIPTION:Join us once a month at the Family Resource Center for our Diaper Club — A supportive resource for families!\n\nLocation: Elk River Family Resource Center  400 Jackson Ave NW  Elk River\, MN 55330\n\n*Note: Big Lake families can also request pick up from Liberty Elementary by sending a request in advance. Please email shari.ley@mainstreetfamilyservices.org for more information.\n Other services available:Parenting supportFamily activitiesReferrals for community resourcesQuestions?Call us at 612-473-1079 or inquire on our website: www.mainstreetfamilyservices.org
URL:https://www.mainstreetfamilyservices.org/event/diaper-club-6/
LOCATION:Main Street Family Services\, 400 Jackson Ave NW Suite 106\, Elk River\, MN\, 55330\, United States
CATEGORIES:Big Lake FRC,Elk River FRC
ATTACH;FMTTYPE=image/png:https://www.mainstreetfamilyservices.org/wp-content/uploads/2025/08/Diaper-Club-Calendar-Image.png
ORGANIZER;CN="Mainstreet Family Resource Center":MAILTO:shari.ley@mainstreetfamilyservices.org
END:VEVENT
END:VCALENDAR