BEGIN:VCALENDAR
VERSION:2.0
PRODID:-//Main Street Family Services - ECPv6.15.20//NONSGML v1.0//EN
CALSCALE:GREGORIAN
METHOD:PUBLISH
X-ORIGINAL-URL:https://www.mainstreetfamilyservices.org
X-WR-CALDESC:Events for Main Street Family Services
REFRESH-INTERVAL;VALUE=DURATION:PT1H
X-Robots-Tag:noindex
X-PUBLISHED-TTL:PT1H
BEGIN:VTIMEZONE
TZID:UTC
BEGIN:STANDARD
TZOFFSETFROM:+0000
TZOFFSETTO:+0000
TZNAME:UTC
DTSTART:20240101T000000
END:STANDARD
END:VTIMEZONE
BEGIN:VEVENT
DTSTART;TZID=UTC:20250813T080000
DTEND;TZID=UTC:20250813T200000
DTSTAMP:20260422T172534
CREATED:20250724T163629Z
LAST-MODIFIED:20250724T163629Z
UID:4287-1755072000-1755115200@www.mainstreetfamilyservices.org
SUMMARY:FREE Community STEM Day at Avery's Adventures
DESCRIPTION:🎉 You’re Invited to a FREE STEM Day at Avery’s Adventures! 🧪🔬🧲 \nJoin us for a fun-filled day of science\, play\, and discovery at Avery’s Adventures\, our local indoor play space — sponsored by the Family Resource Center and made possible by a generous donation from Emerson! \n🗓 Date: Wednesday\, August 13th\n🕗 Open Play Hours: 8:00 AM – 8:00 PM (Free all day for families!)\n🎯 STEM Activity Sessions:\n🔹 9:00 – 11:00 AM\n🔹 1:00 – 3:00 PM *Face Painting\n🔹 5:00 – 7:00 PM \nBring the kids for hands-on science activities\, experiments\, and plenty of time to PLAY! This event is completely free — just show up and join the fun. \n👨‍👩‍👧‍👦 All families welcome. Perfect for curious minds and energetic kiddos!
URL:https://www.mainstreetfamilyservices.org/event/free-community-stem-day-at-averys-adventures/
LOCATION:Avery’s Adventures\, 19138 Freeport Ave\, Elk River\, MN\, 55330\, United States
CATEGORIES:Big Lake FRC,Elk River FRC
ATTACH;FMTTYPE=image/png:https://www.mainstreetfamilyservices.org/wp-content/uploads/2025/07/Free-Community-STEM-Day-Facebook-Post.png
ORGANIZER;CN="Mainstreet Family Resource Center":MAILTO:shari.ley@mainstreetfamilyservices.org
END:VEVENT
BEGIN:VEVENT
DTSTART;TZID=UTC:20250814T130000
DTEND;TZID=UTC:20250814T160000
DTSTAMP:20260422T172534
CREATED:20250630T132102Z
LAST-MODIFIED:20250630T132102Z
UID:4224-1755176400-1755187200@www.mainstreetfamilyservices.org
SUMMARY:Diaper Club
DESCRIPTION:Join us once a month at the Family Resource Center for our Diaper Club — A supportive resource for families!\n When: Thursday\, June 12th 1:00pm-4:00pm Where: 400 Jackson Ave NW Elk River\, MN 55330\n\n\nSupplies are limited\, so early arrival is encouraged. Other services available:Parenting supportFamily activitiesReferrals for community resourcesQuestions?Call us at 612-473-1079 or inquire on our website: www.mainstreetfamilyservices.org
URL:https://www.mainstreetfamilyservices.org/event/diaper-club-3/
LOCATION:Main Street Family Services\, 400 Jackson Ave NW Suite 106\, Elk River\, MN\, 55330\, United States
CATEGORIES:Big Lake FRC,Elk River FRC
ATTACH;FMTTYPE=image/png:https://www.mainstreetfamilyservices.org/wp-content/uploads/2025/06/Diaper-Club-Social-Post-6.26.25.png
ORGANIZER;CN="Mainstreet Family Resource Center":MAILTO:shari.ley@mainstreetfamilyservices.org
END:VEVENT
BEGIN:VEVENT
DTSTART;TZID=UTC:20250818T133000
DTEND;TZID=UTC:20250818T163000
DTSTAMP:20260422T172534
CREATED:20250701T172903Z
LAST-MODIFIED:20250701T184012Z
UID:4227-1755523800-1755534600@www.mainstreetfamilyservices.org
SUMMARY:Back Pack Event
DESCRIPTION:The Family Resource Center is excited to be hosting a Back-to-School Backpack Event to support local families as they prepare for the upcoming school year! Join us for a week filled with free backpacks\, back-to-school haircuts\, community resources\, and fun giveaways! Each day will feature different partners\, services\, and opportunities to connect with local support.  *To reserve your backpack for the event click HERE. \n*Free haircuts are on a select days. More details to follow on our website: www.mainstreetfamilyservices.org and on our Facebook https://www.facebook.com/mainstreetfamilyservices \n**Backpack and supplies giveaway only while supplies last.   \nEvent Details:\n📅 Dates/Times: \nMonday\, August 18th 1:30pm-4:30pm\nTuesday\, August 19th 2:00pm-6:00pm\nWednesday\, August 20th 1:30pm-4:30pm\nThursday\, August 21st 2:00pm-6:00pm\nFriday\, August 22nd 1:30pm-4:30pm \n📍 Location: Main Street Family Resource Center\n400 Jackson St NW Elk River\, MN 55330 \nThe Family Resource Center is a welcoming space where families can access a wide range of supports including parenting resources\, peer support\, therapy services\, basic needs assistance\, educational programming\, and community connections. Our goal is to strengthen families and build a healthier\, more resilient community—one relationship at a time. The back to school event will help meet the concrete needs of families in our community.
URL:https://www.mainstreetfamilyservices.org/event/back-pack-event/
LOCATION:Main Street Family Services\, 400 Jackson Ave NW Suite 106\, Elk River\, MN\, 55330\, United States
CATEGORIES:Big Lake FRC,Elk River FRC
ATTACH;FMTTYPE=image/png:https://www.mainstreetfamilyservices.org/wp-content/uploads/2025/07/Back-Pack-Event-Social-Post-6.25.25.png
ORGANIZER;CN="Mainstreet Family Resource Center":MAILTO:shari.ley@mainstreetfamilyservices.org
END:VEVENT
BEGIN:VEVENT
DTSTART;TZID=UTC:20250819T140000
DTEND;TZID=UTC:20250819T180000
DTSTAMP:20260422T172534
CREATED:20250701T183053Z
LAST-MODIFIED:20250701T183949Z
UID:4230-1755612000-1755626400@www.mainstreetfamilyservices.org
SUMMARY:Back Pack Event
DESCRIPTION:The Family Resource Center is excited to be hosting a Back-to-School Backpack Event to support local families as they prepare for the upcoming school year! Join us for a week filled with free backpacks\, back-to-school haircuts\, community resources\, and fun giveaways! Each day will feature different partners\, services\, and opportunities to connect with local support.  *To reserve your backpack for the event click HERE. \n*Free haircuts are on a select days. More details to follow on our website: www.mainstreetfamilyservices.org and on our Facebook https://www.facebook.com/mainstreetfamilyservices \n**Backpack and supplies giveaway only while supplies last.   \nEvent Details:\n📅 Dates/Times: \nMonday\, August 18th 1:30pm-4:30pm\nTuesday\, August 19th 2:00pm-6:00pm\nWednesday\, August 20th 1:30pm-4:30pm\nThursday\, August 21st 2:00pm-6:00pm\nFriday\, August 22nd 1:30pm-4:30pm \n📍 Location: Main Street Family Resource Center\n400 Jackson St NW Elk River\, MN 55330 \nThe Family Resource Center is a welcoming space where families can access a wide range of supports including parenting resources\, peer support\, therapy services\, basic needs assistance\, educational programming\, and community connections. Our goal is to strengthen families and build a healthier\, more resilient community—one relationship at a time. The back to school event will help meet the concrete needs of families in our community.
URL:https://www.mainstreetfamilyservices.org/event/back-pack-event-2/
LOCATION:Main Street Family Services\, 400 Jackson Ave NW Suite 106\, Elk River\, MN\, 55330\, United States
CATEGORIES:Big Lake FRC,Elk River FRC
ATTACH;FMTTYPE=image/png:https://www.mainstreetfamilyservices.org/wp-content/uploads/2025/07/Back-Pack-Event-Social-Post-6.25.25.png
ORGANIZER;CN="Mainstreet Family Resource Center":MAILTO:shari.ley@mainstreetfamilyservices.org
END:VEVENT
BEGIN:VEVENT
DTSTART;TZID=UTC:20250820T133000
DTEND;TZID=UTC:20250820T163000
DTSTAMP:20260422T172534
CREATED:20250701T184212Z
LAST-MODIFIED:20250701T184212Z
UID:4232-1755696600-1755707400@www.mainstreetfamilyservices.org
SUMMARY:Back Pack Event
DESCRIPTION:The Family Resource Center is excited to be hosting a Back-to-School Backpack Event to support local families as they prepare for the upcoming school year! Join us for a week filled with free backpacks\, back-to-school haircuts\, community resources\, and fun giveaways! Each day will feature different partners\, services\, and opportunities to connect with local support.  *To reserve your backpack for the event click HERE. \n*Free haircuts are on a select days. More details to follow on our website: www.mainstreetfamilyservices.org and on our Facebook https://www.facebook.com/mainstreetfamilyservices \n**Backpack and supplies giveaway only while supplies last.   \nEvent Details:\n📅 Dates/Times: \nMonday\, August 18th 1:30pm-4:30pm\nTuesday\, August 19th 2:00pm-6:00pm\nWednesday\, August 20th 1:30pm-4:30pm\nThursday\, August 21st 2:00pm-6:00pm\nFriday\, August 22nd 1:30pm-4:30pm \n📍 Location: Main Street Family Resource Center\n400 Jackson St NW Elk River\, MN 55330 \nThe Family Resource Center is a welcoming space where families can access a wide range of supports including parenting resources\, peer support\, therapy services\, basic needs assistance\, educational programming\, and community connections. Our goal is to strengthen families and build a healthier\, more resilient community—one relationship at a time. The back to school event will help meet the concrete needs of families in our community.
URL:https://www.mainstreetfamilyservices.org/event/back-pack-event-3/
LOCATION:Main Street Family Services\, 400 Jackson Ave NW Suite 106\, Elk River\, MN\, 55330\, United States
CATEGORIES:Big Lake FRC,Elk River FRC
ATTACH;FMTTYPE=image/png:https://www.mainstreetfamilyservices.org/wp-content/uploads/2025/07/Back-Pack-Event-Social-Post-6.25.25.png
ORGANIZER;CN="Mainstreet Family Resource Center":MAILTO:shari.ley@mainstreetfamilyservices.org
END:VEVENT
BEGIN:VEVENT
DTSTART;TZID=UTC:20250821T140000
DTEND;TZID=UTC:20250821T180000
DTSTAMP:20260422T172534
CREATED:20250701T184310Z
LAST-MODIFIED:20250701T184310Z
UID:4234-1755784800-1755799200@www.mainstreetfamilyservices.org
SUMMARY:Back Pack Event
DESCRIPTION:The Family Resource Center is excited to be hosting a Back-to-School Backpack Event to support local families as they prepare for the upcoming school year! Join us for a week filled with free backpacks\, back-to-school haircuts\, community resources\, and fun giveaways! Each day will feature different partners\, services\, and opportunities to connect with local support. *To reserve your backpack for the event click HERE. \n*Free haircuts are on a select days. More details to follow on our website: www.mainstreetfamilyservices.org and on our Facebook https://www.facebook.com/mainstreetfamilyservices \n**Backpack and supplies giveaway only while supplies last. \nEvent Details:\n📅 Dates/Times: \nMonday\, August 18th 1:30pm-4:30pm\nTuesday\, August 19th 2:00pm-6:00pm\nWednesday\, August 20th 1:30pm-4:30pm\nThursday\, August 21st 2:00pm-6:00pm\nFriday\, August 22nd 1:30pm-4:30pm \n📍 Location: Main Street Family Resource Center\n400 Jackson St NW Elk River\, MN 55330 \nThe Family Resource Center is a welcoming space where families can access a wide range of supports including parenting resources\, peer support\, therapy services\, basic needs assistance\, educational programming\, and community connections. Our goal is to strengthen families and build a healthier\, more resilient community—one relationship at a time. The back to school event will help meet the concrete needs of families in our community.
URL:https://www.mainstreetfamilyservices.org/event/back-pack-event-4/
LOCATION:Main Street Family Services\, 400 Jackson Ave NW Suite 106\, Elk River\, MN\, 55330\, United States
CATEGORIES:Big Lake FRC,Elk River FRC
ATTACH;FMTTYPE=image/png:https://www.mainstreetfamilyservices.org/wp-content/uploads/2025/07/Back-Pack-Event-Social-Post-6.25.25.png
ORGANIZER;CN="Mainstreet Family Resource Center":MAILTO:shari.ley@mainstreetfamilyservices.org
END:VEVENT
BEGIN:VEVENT
DTSTART;TZID=UTC:20250822T133000
DTEND;TZID=UTC:20250822T163000
DTSTAMP:20260422T172534
CREATED:20250701T184411Z
LAST-MODIFIED:20250701T184813Z
UID:4236-1755869400-1755880200@www.mainstreetfamilyservices.org
SUMMARY:Back Pack Event
DESCRIPTION:The Family Resource Center is excited to be hosting a Back-to-School Backpack Event to support local families as they prepare for the upcoming school year! Join us for a week filled with free backpacks\, back-to-school haircuts\, community resources\, and fun giveaways! Each day will feature different partners\, services\, and opportunities to connect with local support.  *To reserve your backpack for the event click HERE. \n*Free haircuts are on a select days. More details to follow on our website: www.mainstreetfamilyservices.org and on our Facebook https://www.facebook.com/mainstreetfamilyservices \n**Backpack and supplies giveaway only while supplies last.   \nEvent Details:\n📅 Dates/Times: \nMonday\, August 18th 1:30pm-4:30pm\nTuesday\, August 19th 2:00pm-6:00pm\nWednesday\, August 20th 1:30pm-4:30pm\nThursday\, August 21st 2:00pm-6:00pm\nFriday\, August 22nd 1:30pm-4:30pm \n📍 Location: Main Street Family Resource Center\n400 Jackson St NW Elk River\, MN 55330 \nThe Family Resource Center is a welcoming space where families can access a wide range of supports including parenting resources\, peer support\, therapy services\, basic needs assistance\, educational programming\, and community connections. Our goal is to strengthen families and build a healthier\, more resilient community—one relationship at a time. The back to school event will help meet the concrete needs of families in our community.
URL:https://www.mainstreetfamilyservices.org/event/back-pack-event-5/
LOCATION:Main Street Family Services\, 400 Jackson Ave NW Suite 106\, Elk River\, MN\, 55330\, United States
CATEGORIES:Big Lake FRC,Elk River FRC
ATTACH;FMTTYPE=image/png:https://www.mainstreetfamilyservices.org/wp-content/uploads/2025/07/Back-Pack-Event-Social-Post-6.25.25.png
ORGANIZER;CN="Mainstreet Family Resource Center":MAILTO:shari.ley@mainstreetfamilyservices.org
END:VEVENT
BEGIN:VEVENT
DTSTART;TZID=UTC:20250828T183000
DTEND;TZID=UTC:20250828T193000
DTSTAMP:20260422T172534
CREATED:20250822T135423Z
LAST-MODIFIED:20250822T135423Z
UID:4378-1756405800-1756409400@www.mainstreetfamilyservices.org
SUMMARY:Hope in a Hopeless World Mental Health and Wellness Support Group
DESCRIPTION:Hope in a Hopeless World\nMental Health & Wellness Support Group \nFree\, peer-led support groups open to adults living with mental health concerns or symptoms of mental illness. All groups are led by peers with firsthand experience living with mental health concerns. \n2nd & 4th Thursday of every month from 6:30 PM to 7:30 PM \nLocation: Main Street Family Services 400 Jackson Ave NW\, Elk River\, MN 55330 Co-Facilitators: Job & Ryan
URL:https://www.mainstreetfamilyservices.org/event/hope-in-a-hopeless-world-mental-health-and-wellness-support-group-6/
LOCATION:Main Street Family Services\, 400 Jackson Ave NW Suite 106\, Elk River\, MN\, 55330\, United States
CATEGORIES:Big Lake FRC,Elk River FRC
ATTACH;FMTTYPE=image/png:https://www.mainstreetfamilyservices.org/wp-content/uploads/2025/01/Hope-in-a-Hopeless-World-2nd-and-4th-Thursdays.png
ORGANIZER;CN="Hope in a Hopeless World":MAILTO:hope@hhwmn.com
END:VEVENT
END:VCALENDAR