BEGIN:VCALENDAR
VERSION:2.0
PRODID:-//Main Street Family Services - ECPv6.15.20//NONSGML v1.0//EN
CALSCALE:GREGORIAN
METHOD:PUBLISH
X-WR-CALNAME:Main Street Family Services
X-ORIGINAL-URL:https://www.mainstreetfamilyservices.org
X-WR-CALDESC:Events for Main Street Family Services
REFRESH-INTERVAL;VALUE=DURATION:PT1H
X-Robots-Tag:noindex
X-PUBLISHED-TTL:PT1H
BEGIN:VTIMEZONE
TZID:UTC
BEGIN:STANDARD
TZOFFSETFROM:+0000
TZOFFSETTO:+0000
TZNAME:UTC
DTSTART:20240101T000000
END:STANDARD
END:VTIMEZONE
BEGIN:VEVENT
DTSTART;TZID=UTC:20250611T170000
DTEND;TZID=UTC:20250611T180000
DTSTAMP:20260420T230152
CREATED:20250528T185627Z
LAST-MODIFIED:20250627T060807Z
UID:4056-1749661200-1749664800@www.mainstreetfamilyservices.org
SUMMARY:Interview Skills Workshop
DESCRIPTION:Central MN Jobs and Training will be offer a Interview Skills Workshop at the Family Resource Center. They will help you approach your next interview with increased confidence\, learn how to answer challenging interview questions\, gain frameworks to structure your thoughts and answers to common questions\, and develop tools and techniques to both prepare for and follow-up after the interview. No registration required\, drop-ins welcome! \nDate: Wednesday\, June 11th \nTime: 5:00pm-6:00pm \nLocation: Main Street Family Services 400 Jackson Ave NW Elk River\, MN 55330 \n 
URL:https://www.mainstreetfamilyservices.org/event/interview-skills-workshop/
LOCATION:Main Street Family Services\, 400 Jackson Ave NW Suite 106\, Elk River\, MN\, 55330\, United States
CATEGORIES:Elk River FRC
ATTACH;FMTTYPE=image/png:https://www.mainstreetfamilyservices.org/wp-content/uploads/2025/05/Interview-Skills-Workshop.png
END:VEVENT
END:VCALENDAR